{
 "currentVersion": 10.71,
 "serviceDescription": "fire regime image layer for CWPP",
 "name": "fireregime",
 "description": "fire regime image layer for CWPP",
 "extent": {
  "xmin": -268280,
  "ymin": 75130,
  "xmax": -200980,
  "ymax": 177930,
  "spatialReference": {
   "wkt": "PROJCS[\"NAD_1927_Albers\",GEOGCS[\"GCS_North_American_1927\",DATUM[\"D_North_American_1927\",SPHEROID[\"Clarke_1866\",6378206.4,294.9786982]],PRIMEM[\"Greenwich\",0.0],UNIT[\"Degree\",0.0174532925199433]],PROJECTION[\"Albers\"],PARAMETER[\"False_Easting\",0.0],PARAMETER[\"False_Northing\",-4000000.0],PARAMETER[\"central_meridian\",-120.0],PARAMETER[\"Standard_Parallel_1\",34.0],PARAMETER[\"Standard_Parallel_2\",40.5],PARAMETER[\"latitude_of_origin\",0.0],UNIT[\"Meter\",1.0]]"
  }
 },
 "initialExtent": {
  "xmin": -268280,
  "ymin": 75130,
  "xmax": -200980,
  "ymax": 177930,
  "spatialReference": {
   "wkt": "PROJCS[\"NAD_1927_Albers\",GEOGCS[\"GCS_North_American_1927\",DATUM[\"D_North_American_1927\",SPHEROID[\"Clarke_1866\",6378206.4,294.9786982]],PRIMEM[\"Greenwich\",0.0],UNIT[\"Degree\",0.0174532925199433]],PROJECTION[\"Albers\"],PARAMETER[\"False_Easting\",0.0],PARAMETER[\"False_Northing\",-4000000.0],PARAMETER[\"central_meridian\",-120.0],PARAMETER[\"Standard_Parallel_1\",34.0],PARAMETER[\"Standard_Parallel_2\",40.5],PARAMETER[\"latitude_of_origin\",0.0],UNIT[\"Meter\",1.0]]"
  }
 },
 "fullExtent": {
  "xmin": -268280,
  "ymin": 75130,
  "xmax": -200980,
  "ymax": 177930,
  "spatialReference": {
   "wkt": "PROJCS[\"NAD_1927_Albers\",GEOGCS[\"GCS_North_American_1927\",DATUM[\"D_North_American_1927\",SPHEROID[\"Clarke_1866\",6378206.4,294.9786982]],PRIMEM[\"Greenwich\",0.0],UNIT[\"Degree\",0.0174532925199433]],PROJECTION[\"Albers\"],PARAMETER[\"False_Easting\",0.0],PARAMETER[\"False_Northing\",-4000000.0],PARAMETER[\"central_meridian\",-120.0],PARAMETER[\"Standard_Parallel_1\",34.0],PARAMETER[\"Standard_Parallel_2\",40.5],PARAMETER[\"latitude_of_origin\",0.0],UNIT[\"Meter\",1.0]]"
  }
 },
 "pixelSizeX": 100,
 "pixelSizeY": 100,
 "bandCount": 1,
 "pixelType": "U16",
 "minPixelSize": 0,
 "maxPixelSize": 0,
 "copyrightText": "",
 "serviceDataType": "esriImageServiceDataTypeGeneric",
 "minValues": [
  13
 ],
 "maxValues": [
  7867
 ],
 "meanValues": [
  2983.1864116513
 ],
 "stdvValues": [
  2035.1390012443
 ],
 "objectIdField": "",
 "fields": [],
 "capabilities": "Mensuration,Image,Metadata",
 "defaultMosaicMethod": "Center",
 "allowedMosaicMethods": "",
 "sortField": "",
 "sortValue": null,
 "mosaicOperator": "First",
 "defaultCompressionQuality": 75,
 "defaultResamplingMethod": "Bilinear",
 "maxImageHeight": 4100,
 "maxImageWidth": 15000,
 "allowRasterFunction": true,
 "rasterFunctionInfos": [
  {
   "name": "None",
   "description": "",
   "help": ""
  }
 ],
 "rasterTypeInfos": [
  {
   "name": "Raster Dataset",
   "description": "Supports all ArcGIS Raster Datasets",
   "help": ""
  }
 ],
 "mensurationCapabilities": "Basic",
 "hasHistograms": false,
 "hasColormap": false,
 "hasRasterAttributeTable": true,
 "minScale": 0,
 "maxScale": 0,
 "exportTilesAllowed": false,
 "hasMultidimensions": false,
 "supportsStatistics": false,
 "supportsAdvancedQueries": false,
 "editFieldsInfo": null,
 "ownershipBasedAccessControlForRasters": null,
 "allowComputeTiePoints": false,
 "useStandardizedQueries": true,
 "advancedQueryCapabilities": {
  "useStandardizedQueries": true,
  "supportsStatistics": false,
  "supportsOrderBy": false,
  "supportsDistinct": false,
  "supportsPagination": false
 },
 "spatialReference": {
  "wkt": "PROJCS[\"NAD_1927_Albers\",GEOGCS[\"GCS_North_American_1927\",DATUM[\"D_North_American_1927\",SPHEROID[\"Clarke_1866\",6378206.4,294.9786982]],PRIMEM[\"Greenwich\",0.0],UNIT[\"Degree\",0.0174532925199433]],PROJECTION[\"Albers\"],PARAMETER[\"False_Easting\",0.0],PARAMETER[\"False_Northing\",-4000000.0],PARAMETER[\"central_meridian\",-120.0],PARAMETER[\"Standard_Parallel_1\",34.0],PARAMETER[\"Standard_Parallel_2\",40.5],PARAMETER[\"latitude_of_origin\",0.0],UNIT[\"Meter\",1.0]]"
 }
}
